BEGIN:VCALENDAR
VERSION:2.0
PRODID:-//Salt Creek Wine Company - ECPv6.15.17.1//NONSGML v1.0//EN
CALSCALE:GREGORIAN
METHOD:PUBLISH
X-ORIGINAL-URL:https://saltcreekwine.com
X-WR-CALDESC:Events for Salt Creek Wine Company
REFRESH-INTERVAL;VALUE=DURATION:PT1H
X-Robots-Tag:noindex
X-PUBLISHED-TTL:PT1H
BEGIN:VTIMEZONE
TZID:UTC
BEGIN:STANDARD
TZOFFSETFROM:+0000
TZOFFSETTO:+0000
TZNAME:UTC
DTSTART:20180101T000000
END:STANDARD
END:VTIMEZONE
BEGIN:VEVENT
DTSTART;TZID=UTC:20191213T190000
DTEND;TZID=UTC:20191213T210000
DTSTAMP:20260423T232344
CREATED:20190914T232507Z
LAST-MODIFIED:20191204T015429Z
UID:3916-1576263600-1576270800@saltcreekwine.com
SUMMARY:VIP Tasting - $125
DESCRIPTION:Friday\, December 13th\, 7:00 pm – $125 \nMeet at the Creek for an incredible opportunity to try some of the most iconic wines in the world! \nThis year’s VIP tasting features:\nOpus One (retail $365)\, \nPenfold’s Grange (retail $625)\, \nCaymus Special Selection (retail $180)\, \nBV Georges De LaTour (Retail $130)\, \nChimney Rock Tomahawk Vineyard (retail $180) \nKathryn Hall Napa Cab (retail $180) \nAt this tasting you will receive 2 ounce pours in sets of 3 to compare and contrast while 2 of the top Somms in Orange County speak of the wonders of these wines. This is definitely an event you do not want to miss. Seating is limited and last year did sell out\, so sign up soon. \n$125 for the tasting
URL:https://saltcreekwine.com/event/vip-tasting-3/
LOCATION:Salt Creek Wine Company\, 30100 Town Center Dr.\, B-2\, Laguna Niguel\, CA\, 92677\, United States
CATEGORIES:Special Event
ATTACH;FMTTYPE=image/jpeg:https://saltcreekwine.com/wp-content/uploads/2019/07/vip-table.jpg
ORGANIZER;CN="Salt Creek Wine Company":MAILTO:cheers@saltcreekwine.com
END:VEVENT
BEGIN:VEVENT
DTSTART;TZID=UTC:20191211T183000
DTEND;TZID=UTC:20191211T203000
DTSTAMP:20260423T232344
CREATED:20190914T223911Z
LAST-MODIFIED:20190914T224118Z
UID:3901-1576089000-1576096200@saltcreekwine.com
SUMMARY:Vineology - Santa Barbara
DESCRIPTION:$30 per class. Join us for Marcelino Cosio’s class on Santa Barbara. Enjoy 5 different wines from the region and a small cheese tray while Marcelino teaches us all what makes Oregon special. Marcelino’s classes fill up quickly\, give us a call or sign up today.\n$30 per class.
URL:https://saltcreekwine.com/event/vineology-santa-barbara/
LOCATION:CA
CATEGORIES:Special Event
ATTACH;FMTTYPE=image/jpeg:https://saltcreekwine.com/wp-content/uploads/2019/08/marci1.jpg
END:VEVENT
BEGIN:VEVENT
DTSTART;TZID=UTC:20191208T120000
DTEND;TZID=UTC:20191208T180000
DTSTAMP:20260423T232344
CREATED:20190914T203605Z
LAST-MODIFIED:20190914T203605Z
UID:3862-1575806400-1575828000@saltcreekwine.com
SUMMARY:Sunday Sips
DESCRIPTION:Join us every Sunday for half price by the glass wines from 12 – 6. Special available until we run out… Sundays come enjoy wine-by-the-glass of any open wine at 50% off! Applies only to bottles still open from Saturday\, so variety and amount is a surprise!
URL:https://saltcreekwine.com/event/sunday-sips-47/
LOCATION:Salt Creek Wine Company\, 30100 Town Center Dr.\, B-2\, Laguna Niguel\, CA\, 92677\, United States
CATEGORIES:Special Event
ATTACH;FMTTYPE=image/jpeg:https://saltcreekwine.com/wp-content/uploads/2018/04/Wine-Bottles.jpg
ORGANIZER;CN="Salt Creek Wine Company":MAILTO:cheers@saltcreekwine.com
END:VEVENT
BEGIN:VEVENT
DTSTART;TZID=UTC:20191207T183000
DTEND;TZID=UTC:20191207T213000
DTSTAMP:20260423T232344
CREATED:20190914T222312Z
LAST-MODIFIED:20190914T222312Z
UID:3892-1575743400-1575754200@saltcreekwine.com
SUMMARY:Live Music - Rachel Landrum
DESCRIPTION:Rachel’s back tonight. If you missed her last time here is your chance to catch a rising star! Sip some wine\, snack on some cheese and listen to some incredible music. Sounds like a great night to me!
URL:https://saltcreekwine.com/event/live-music-rachel-landrum/
LOCATION:Salt Creek Wine Company\, 30100 Town Center Dr.\, B-2\, Laguna Niguel\, CA\, 92677\, United States
CATEGORIES:Live Music
ATTACH;FMTTYPE=image/jpeg:https://saltcreekwine.com/wp-content/uploads/2019/09/rachel-e1568492044277.jpg
ORGANIZER;CN="Salt Creek Wine Company":MAILTO:cheers@saltcreekwine.com
END:VEVENT
BEGIN:VEVENT
DTSTART;TZID=UTC:20191206T183000
DTEND;TZID=UTC:20191206T203000
DTSTAMP:20260423T232344
CREATED:20190914T231541Z
LAST-MODIFIED:20191204T015533Z
UID:3911-1575657000-1575664200@saltcreekwine.com
SUMMARY:Bubbles and Caviar - $49
DESCRIPTION:Friday\, December 6th\, 6:30 pm – $49 \n4 courses of Iron Horse Sparkling Wine expertly paired with different caviar. \n1st Course: Caviar on cucumber with dill and creme fresh\nPaired with Iron Horse Ocean Reserve \n2nd Course: Caviar on toast with eggs\, capers\, sour cream\nPaired with Iron Horse Brut \n3rd Course: Caviar on Blini with chives and creme fresh\nPaired with Iron Horse Wedding Cuvee \n4th Course: Farmed Russian Oestra Plaza De Caviar\nPaired with Iron Horse Russian Cuvee \nFEATURING THE SOOTHING JAZZ SOUNDS FROM OUR FAVORITE MUSICIAN\, JIMMY G!
URL:https://saltcreekwine.com/event/champagne-and-caviar/
LOCATION:Salt Creek Wine Company\, 30100 Town Center Dr.\, B-2\, Laguna Niguel\, CA\, 92677\, United States
CATEGORIES:Special Event
ATTACH;FMTTYPE=image/jpeg:https://saltcreekwine.com/wp-content/uploads/2019/09/ironhorse.jpg
END:VEVENT
BEGIN:VEVENT
DTSTART;TZID=UTC:20191201T120000
DTEND;TZID=UTC:20191201T180000
DTSTAMP:20260423T232344
CREATED:20190914T203459Z
LAST-MODIFIED:20190914T203459Z
UID:3860-1575201600-1575223200@saltcreekwine.com
SUMMARY:Sunday Sips
DESCRIPTION:Join us every Sunday for half price by the glass wines from 12 – 6. Special available until we run out… Sundays come enjoy wine-by-the-glass of any open wine at 50% off! Applies only to bottles still open from Saturday\, so variety and amount is a surprise!
URL:https://saltcreekwine.com/event/sunday-sips-46/
LOCATION:Salt Creek Wine Company\, 30100 Town Center Dr.\, B-2\, Laguna Niguel\, CA\, 92677\, United States
CATEGORIES:Special Event
ATTACH;FMTTYPE=image/jpeg:https://saltcreekwine.com/wp-content/uploads/2018/04/Wine-Bottles.jpg
ORGANIZER;CN="Salt Creek Wine Company":MAILTO:cheers@saltcreekwine.com
END:VEVENT
BEGIN:VEVENT
DTSTART;VALUE=DATE:20191128
DTEND;VALUE=DATE:20191129
DTSTAMP:20260423T232344
CREATED:20190914T225522Z
LAST-MODIFIED:20190914T225522Z
UID:3909-1574899200-1574985599@saltcreekwine.com
SUMMARY:CLOSED FOR THANKSGIVING
DESCRIPTION:Happy Thanksgiving!  We are thankful for all of you!
URL:https://saltcreekwine.com/event/closed-for-thanksgiving/
LOCATION:CA
CATEGORIES:Private Event
ATTACH;FMTTYPE=image/jpeg:https://saltcreekwine.com/wp-content/uploads/2018/10/Thanksgiving.jpg
END:VEVENT
BEGIN:VEVENT
DTSTART;TZID=UTC:20191124T120000
DTEND;TZID=UTC:20191124T180000
DTSTAMP:20260423T232344
CREATED:20190914T203343Z
LAST-MODIFIED:20190914T203343Z
UID:3858-1574596800-1574618400@saltcreekwine.com
SUMMARY:Sunday Sips
DESCRIPTION:Join us every Sunday for half price by the glass wines from 12 – 6. Special available until we run out… Sundays come enjoy wine-by-the-glass of any open wine at 50% off! Applies only to bottles still open from Saturday\, so variety and amount is a surprise!
URL:https://saltcreekwine.com/event/sunday-sips-45/
LOCATION:Salt Creek Wine Company\, 30100 Town Center Dr.\, B-2\, Laguna Niguel\, CA\, 92677\, United States
CATEGORIES:Special Event
ATTACH;FMTTYPE=image/jpeg:https://saltcreekwine.com/wp-content/uploads/2018/04/Wine-Bottles.jpg
ORGANIZER;CN="Salt Creek Wine Company":MAILTO:cheers@saltcreekwine.com
END:VEVENT
BEGIN:VEVENT
DTSTART;TZID=UTC:20191123T183000
DTEND;TZID=UTC:20191123T213000
DTSTAMP:20260423T232344
CREATED:20191116T000415Z
LAST-MODIFIED:20191116T000415Z
UID:4009-1574533800-1574544600@saltcreekwine.com
SUMMARY:Live Music - Jimmy G!
DESCRIPTION:Please join us as we welcome back Jimmy G and some of his friends!  Accomplished Jazz Saxophonist James Gonzales returns with accompaniment from Dan Forester as well as wine club members Tony\, Mona and Deana!
URL:https://saltcreekwine.com/event/live-music-jimmy-g/
LOCATION:Salt Creek Wine Company\, 30100 Town Center Dr.\, B-2\, Laguna Niguel\, CA\, 92677\, United States
CATEGORIES:Live Music
ATTACH;FMTTYPE=image/jpeg:https://saltcreekwine.com/wp-content/uploads/2018/10/Live-Music-Jimmy-G.jpg
ORGANIZER;CN="Salt Creek Wine Company":MAILTO:cheers@saltcreekwine.com
END:VEVENT
BEGIN:VEVENT
DTSTART;TZID=UTC:20191122T183000
DTEND;TZID=UTC:20191122T213000
DTSTAMP:20260423T232344
CREATED:20191113T190717Z
LAST-MODIFIED:20191113T190717Z
UID:3993-1574447400-1574458200@saltcreekwine.com
SUMMARY:King Frosch Winemaker Event
DESCRIPTION:Come meet the owners of Laguna Niguel’s own wine importer/maker King Frosch. King Frosch Wines brings the best “all natural” wine marvels directly to you. If you’ve ever traveled to Europe and have fond memories of the delectable\, drinkable wines you enjoyed in lovely outdoor “Weingartens” or quaint wine cellars and bistros\, now you can relive those moments at home with King Frosch Wines.  In 2004\, German wine expert and King Frosch Wines founder\, Klaus Bellinghausen\, decided to bring his understanding of the European wine culture to the U.S. He opened King Frosch Wines as a branch of his international trade organization\, Bellinghausen Business Group\, LTD\, and made it his mission to bring “All Natural Wines” to America. Today King Frosch’s success is proven with several thousand customers\, and a portfolio of German and other European wines that is unmatched.
URL:https://saltcreekwine.com/event/king-frosch-winemaker-event/
LOCATION:Salt Creek Wine Company\, 30100 Town Center Dr.\, B-2\, Laguna Niguel\, CA\, 92677\, United States
CATEGORIES:Winemaker Event
ATTACH;FMTTYPE=image/png:https://saltcreekwine.com/wp-content/uploads/2019/11/king-frosch-frog.png
ORGANIZER;CN="Salt Creek Wine Company":MAILTO:cheers@saltcreekwine.com
END:VEVENT
BEGIN:VEVENT
DTSTART;TZID=UTC:20191121T183000
DTEND;TZID=UTC:20191121T203000
DTSTAMP:20260423T232344
CREATED:20190914T224824Z
LAST-MODIFIED:20191113T200906Z
UID:3907-1574361000-1574368200@saltcreekwine.com
SUMMARY:Wine Pairing Dinner
DESCRIPTION:Meet at the Creek for our latest outstanding wine pairing dinner.  This month we welcome the owner and chef of Urban Grill and Cittadina Trattoria.  This promises to be another successful event\, we can’t wait for you to try these great dishes.  At $45 this is the best deal in town! \nArrival Wine:\n2018 Chateau Gassier Esprit Gassier Rose Cotes De Provence  \n1st Course:  Pesto Shrimp Caprice\npaired with 2018 Treana Chardonnay Central Coast  \n2nd Course: Chopped Salad Romaine/cabbage/tomato/cucumber/kalamatas/red onion/feta\nPaired with 2018 Willamette Valley Vineyards Whole Cluster Pinot Noir  \n3rd Course: Mini Meatball\nmarinara/shaved parmesan/basil chiffonade\nPaired with 2016 Tenuta Di Nozzole Chianti Classico DOCG Riserva  \n4th Course: Smoked Pork\ncreamy Laura Chenal goat cheese polenta/roasted corn\nPaired with 2017 Collusion Columbia Valley Red Blend 
URL:https://saltcreekwine.com/event/wine-pairing-dinner-2/
LOCATION:Salt Creek Wine Company\, 30100 Town Center Dr.\, B-2\, Laguna Niguel\, CA\, 92677\, United States
CATEGORIES:Wine Pairing Meal
ATTACH;FMTTYPE=image/jpeg:https://saltcreekwine.com/wp-content/uploads/2019/09/urban-grill.jpg
ORGANIZER;CN="Salt Creek Wine Company":MAILTO:cheers@saltcreekwine.com
END:VEVENT
BEGIN:VEVENT
DTSTART;TZID=UTC:20191117T120000
DTEND;TZID=UTC:20191117T180000
DTSTAMP:20260423T232344
CREATED:20190914T203237Z
LAST-MODIFIED:20190914T203237Z
UID:3856-1573992000-1574013600@saltcreekwine.com
SUMMARY:Sunday Sips
DESCRIPTION:Join us every Sunday for half price by the glass wines from 12 – 6. Special available until we run out… Sundays come enjoy wine-by-the-glass of any open wine at 50% off! Applies only to bottles still open from Saturday\, so variety and amount is a surprise!
URL:https://saltcreekwine.com/event/sunday-sips-44/
LOCATION:Salt Creek Wine Company\, 30100 Town Center Dr.\, B-2\, Laguna Niguel\, CA\, 92677\, United States
CATEGORIES:Special Event
ATTACH;FMTTYPE=image/jpeg:https://saltcreekwine.com/wp-content/uploads/2018/04/Wine-Bottles.jpg
ORGANIZER;CN="Salt Creek Wine Company":MAILTO:cheers@saltcreekwine.com
END:VEVENT
BEGIN:VEVENT
DTSTART;TZID=UTC:20191116T183000
DTEND;TZID=UTC:20191116T213000
DTSTAMP:20260423T232344
CREATED:20190914T211725Z
LAST-MODIFIED:20190914T211725Z
UID:3874-1573929000-1573939800@saltcreekwine.com
SUMMARY:Live Music - Greg Brock
DESCRIPTION:Kick back with singer/songwriter Greg Brock\, who has several songs that hit the top 20 on the Billboard charts. A native Californian and resident of Laguna Niguel\, listening to Greg on one of his many guitars is the perfect backdrop to sip some new wines!
URL:https://saltcreekwine.com/event/live-music-greg-brock/
LOCATION:Salt Creek Wine Company\, 30100 Town Center Dr.\, B-2\, Laguna Niguel\, CA\, 92677\, United States
CATEGORIES:Live Music
ATTACH;FMTTYPE=image/jpeg:https://saltcreekwine.com/wp-content/uploads/2018/08/Gregory.jpg
ORGANIZER;CN="Salt Creek Wine Company":MAILTO:cheers@saltcreekwine.com
END:VEVENT
BEGIN:VEVENT
DTSTART;TZID=UTC:20191115T183000
DTEND;TZID=UTC:20191115T213000
DTSTAMP:20260423T232344
CREATED:20190914T224625Z
LAST-MODIFIED:20190914T224625Z
UID:3905-1573842600-1573853400@saltcreekwine.com
SUMMARY:Sabrage!
DESCRIPTION:Just $50 for a tasting and a bottle!  Join us as Marcelino Cosio and Jennifer O’Brien from Iron Horse Vineyards teach us the ancient technique of Sabrage!  Have you ever wanted to open a bottle with a saber or a sword?  Of course you have!  Here’s your chance.  For $50 you get to taste through a full line up of Iron Horse Sparkling Wines\, choose your favorite and get a bottle to gracefully open while wielding a saber! \nJust $50 for a tasting and a bottle!
URL:https://saltcreekwine.com/event/sabrage/
LOCATION:Salt Creek Wine Company\, 30100 Town Center Dr.\, B-2\, Laguna Niguel\, CA\, 92677\, United States
CATEGORIES:Special Event
ATTACH;FMTTYPE=image/jpeg:https://saltcreekwine.com/wp-content/uploads/2018/09/Saber.jpg
ORGANIZER;CN="Salt Creek Wine Company":MAILTO:cheers@saltcreekwine.com
END:VEVENT
BEGIN:VEVENT
DTSTART;TZID=UTC:20191113T183000
DTEND;TZID=UTC:20191113T203000
DTSTAMP:20260423T232344
CREATED:20190914T223753Z
LAST-MODIFIED:20191106T013929Z
UID:3899-1573669800-1573677000@saltcreekwine.com
SUMMARY:Vineology - New Zealand
DESCRIPTION:$30 per class.  Join us for Marcelino Cosio’s class on New Zealand. Enjoy 5 different wines from the region and a small cheese tray while Marcelino teaches us all what makes New Zealand special. Marcelino’s classes fill up quickly\, give us a call or sign up today. \n$30 per class.
URL:https://saltcreekwine.com/event/vineology-new-zealand/
LOCATION:Salt Creek Wine Company\, 30100 Town Center Dr.\, B-2\, Laguna Niguel\, CA\, 92677\, United States
CATEGORIES:Special Event
ATTACH;FMTTYPE=image/jpeg:https://saltcreekwine.com/wp-content/uploads/2019/08/marci1.jpg
ORGANIZER;CN="Salt Creek Wine Company":MAILTO:cheers@saltcreekwine.com
END:VEVENT
BEGIN:VEVENT
DTSTART;TZID=UTC:20191110T120000
DTEND;TZID=UTC:20191110T180000
DTSTAMP:20260423T232344
CREATED:20190914T203131Z
LAST-MODIFIED:20190914T203131Z
UID:3854-1573387200-1573408800@saltcreekwine.com
SUMMARY:Sunday Sips
DESCRIPTION:Join us every Sunday for half price by the glass wines from 12 – 6. Special available until we run out… Sundays come enjoy wine-by-the-glass of any open wine at 50% off! Applies only to bottles still open from Saturday\, so variety and amount is a surprise!
URL:https://saltcreekwine.com/event/sunday-sips-43/
LOCATION:Salt Creek Wine Company\, 30100 Town Center Dr.\, B-2\, Laguna Niguel\, CA\, 92677\, United States
CATEGORIES:Special Event
ATTACH;FMTTYPE=image/jpeg:https://saltcreekwine.com/wp-content/uploads/2018/04/Wine-Bottles.jpg
ORGANIZER;CN="Salt Creek Wine Company":MAILTO:cheers@saltcreekwine.com
END:VEVENT
BEGIN:VEVENT
DTSTART;TZID=UTC:20191109T080000
DTEND;TZID=UTC:20191109T170000
DTSTAMP:20260423T232344
CREATED:20190914T223519Z
LAST-MODIFIED:20190914T223519Z
UID:3897-1573286400-1573318800@saltcreekwine.com
SUMMARY:Live Music - Brandon
DESCRIPTION:Join us as we welcome back the guitar playing\, singing and antics of Brandon!  An up and coming entertainer who loves to get the crowd involved\, its always a great time when Brandon is here.  Stop by\, have some wine and enjoy!
URL:https://saltcreekwine.com/event/live-music-brandon-2/
LOCATION:Salt Creek Wine Company\, 30100 Town Center Dr.\, B-2\, Laguna Niguel\, CA\, 92677\, United States
CATEGORIES:Live Music
ATTACH;FMTTYPE=image/png:https://saltcreekwine.com/wp-content/uploads/2019/04/Wine-and-Music.png
ORGANIZER;CN="Salt Creek Wine Company":MAILTO:cheers@saltcreekwine.com
END:VEVENT
BEGIN:VEVENT
DTSTART;TZID=UTC:20191108T183000
DTEND;TZID=UTC:20191108T213000
DTSTAMP:20260423T232344
CREATED:20190914T222955Z
LAST-MODIFIED:20190914T223022Z
UID:3894-1573237800-1573248600@saltcreekwine.com
SUMMARY:Passport to Wine
DESCRIPTION:Our wine club members are invited to our third Passport to Wine event. For a $25 entry there will be 36 wines available to taste at 6 stations\, manned by some of the best sommeliers and wine experts around. Wines-by-the-case will be available at a significant discount. Non wine club members are invited to join in the fun as well for $35.
URL:https://saltcreekwine.com/event/3894/
LOCATION:Salt Creek Wine Company\, 30100 Town Center Dr.\, B-2\, Laguna Niguel\, CA\, 92677\, United States
CATEGORIES:Special Event
ATTACH;FMTTYPE=image/png:https://saltcreekwine.com/wp-content/uploads/2019/04/Passport-to-Wine.png
ORGANIZER;CN="Salt Creek Wine Company":MAILTO:cheers@saltcreekwine.com
END:VEVENT
BEGIN:VEVENT
DTSTART;TZID=UTC:20191103T120000
DTEND;TZID=UTC:20191103T180000
DTSTAMP:20260423T232344
CREATED:20190914T203004Z
LAST-MODIFIED:20190914T203004Z
UID:3852-1572782400-1572804000@saltcreekwine.com
SUMMARY:Sunday Sips
DESCRIPTION:Join us every Sunday for half price by the glass wines from 12 – 6. Special available until we run out… Sundays come enjoy wine-by-the-glass of any open wine at 50% off! Applies only to bottles still open from Saturday\, so variety and amount is a surprise!
URL:https://saltcreekwine.com/event/sunday-sips-42/
LOCATION:Salt Creek Wine Company\, 30100 Town Center Dr.\, B-2\, Laguna Niguel\, CA\, 92677\, United States
CATEGORIES:Special Event
ATTACH;FMTTYPE=image/jpeg:https://saltcreekwine.com/wp-content/uploads/2018/04/Wine-Bottles.jpg
ORGANIZER;CN="Salt Creek Wine Company":MAILTO:cheers@saltcreekwine.com
END:VEVENT
BEGIN:VEVENT
DTSTART;TZID=UTC:20191102T183000
DTEND;TZID=UTC:20191102T213000
DTSTAMP:20260423T232344
CREATED:20190914T222101Z
LAST-MODIFIED:20190914T222130Z
UID:3889-1572719400-1572730200@saltcreekwine.com
SUMMARY:Live Music - Rachel Landrum
DESCRIPTION:Rachel’s back tonight. If you missed her last time here is your chance to catch a rising star! Sip some wine\, snack on some cheese and listen to some incredible music. Sounds like a great night to me!
URL:https://saltcreekwine.com/event/3889/
LOCATION:Salt Creek Wine Company\, 30100 Town Center Dr.\, B-2\, Laguna Niguel\, CA\, 92677\, United States
CATEGORIES:Live Music
ATTACH;FMTTYPE=image/jpeg:https://saltcreekwine.com/wp-content/uploads/2019/09/rachel-e1568492044277.jpg
ORGANIZER;CN="Salt Creek Wine Company":MAILTO:cheers@saltcreekwine.com
END:VEVENT
BEGIN:VEVENT
DTSTART;TZID=UTC:20191101T183000
DTEND;TZID=UTC:20191101T213000
DTSTAMP:20260423T232344
CREATED:20190914T220248Z
LAST-MODIFIED:20190914T220248Z
UID:3887-1572633000-1572643800@saltcreekwine.com
SUMMARY:Winemaker Event - Westerly
DESCRIPTION:Join us as the owner of Westerly Wines pours his 5 favorites! \n$30 for the tasting.
URL:https://saltcreekwine.com/event/winemaker-event-westerly/
LOCATION:Salt Creek Wine Company\, 30100 Town Center Dr.\, B-2\, Laguna Niguel\, CA\, 92677\, United States
CATEGORIES:Winemaker Event
ATTACH;FMTTYPE=image/jpeg:https://saltcreekwine.com/wp-content/uploads/2019/02/Westerly-Wines.jpg
ORGANIZER;CN="Salt Creek Wine Company":MAILTO:cheers@saltcreekwine.com
END:VEVENT
BEGIN:VEVENT
DTSTART;TZID=UTC:20191027T120000
DTEND;TZID=UTC:20191027T180000
DTSTAMP:20260423T232344
CREATED:20190914T202852Z
LAST-MODIFIED:20190914T202852Z
UID:3850-1572177600-1572199200@saltcreekwine.com
SUMMARY:Sunday Sips
DESCRIPTION:Join us every Sunday for half price by the glass wines from 12 – 6. Special available until we run out… Sundays come enjoy wine-by-the-glass of any open wine at 50% off! Applies only to bottles still open from Saturday\, so variety and amount is a surprise!
URL:https://saltcreekwine.com/event/sunday-sips-41/
LOCATION:Salt Creek Wine Company\, 30100 Town Center Dr.\, B-2\, Laguna Niguel\, CA\, 92677\, United States
CATEGORIES:Special Event
ATTACH;FMTTYPE=image/jpeg:https://saltcreekwine.com/wp-content/uploads/2018/04/Wine-Bottles.jpg
ORGANIZER;CN="Salt Creek Wine Company":MAILTO:cheers@saltcreekwine.com
END:VEVENT
BEGIN:VEVENT
DTSTART;TZID=UTC:20191026T183000
DTEND;TZID=UTC:20191026T213000
DTSTAMP:20260423T232344
CREATED:20191023T220719Z
LAST-MODIFIED:20191023T220719Z
UID:3986-1572114600-1572125400@saltcreekwine.com
SUMMARY:Live Music - Ashun
DESCRIPTION:Join us as we welcome back Ashun\, guitar virtuoso.  From classical to heavy metal\, Ashun plays it all.  Meet at the Creek for great music\, great friends and great wine.
URL:https://saltcreekwine.com/event/live-music-ashun/
LOCATION:CA
CATEGORIES:Live Music
ATTACH;FMTTYPE=image/jpeg:https://saltcreekwine.com/wp-content/uploads/2019/04/Live-Music.jpg
END:VEVENT
BEGIN:VEVENT
DTSTART;TZID=UTC:20191024T183000
DTEND;TZID=UTC:20191024T203000
DTSTAMP:20260423T232344
CREATED:20190914T215229Z
LAST-MODIFIED:20191003T233117Z
UID:3881-1571941800-1571949000@saltcreekwine.com
SUMMARY:Wine Dinner - "Wine Country Cuisine"
DESCRIPTION:This event is $45 \nJoin us as we welcome in guest Chef Ricardo Robles from Aliso Viejo Golf Club as he takes us on a culinary journey of the best plates California Wineries have to offer.  As always Sommelier Marcelino Cosio will expertly pair wine with each dish for a night that won’t be forgotten.  For this event we will start with an opening pour and move quickly on to 4 small plates expertly paired with 4 California Wines.  All this for just $45.  Sign up soon\, space is limited and these always sell out.
URL:https://saltcreekwine.com/event/wine-dinner/
LOCATION:Salt Creek Wine Company\, 30100 Town Center Dr.\, B-2\, Laguna Niguel\, CA\, 92677\, United States
CATEGORIES:Wine Pairing Meal
ATTACH;FMTTYPE=image/jpeg:https://saltcreekwine.com/wp-content/uploads/2018/04/cheers.jpg
ORGANIZER;CN="Salt Creek Wine Company":MAILTO:cheers@saltcreekwine.com
END:VEVENT
BEGIN:VEVENT
DTSTART;TZID=UTC:20191020T120000
DTEND;TZID=UTC:20191020T180000
DTSTAMP:20260423T232344
CREATED:20190914T202713Z
LAST-MODIFIED:20190914T202713Z
UID:3848-1571572800-1571594400@saltcreekwine.com
SUMMARY:Sunday Sips
DESCRIPTION:Join us every Sunday for half price by the glass wines from 12 – 6. Special available until we run out… Sundays come enjoy wine-by-the-glass of any open wine at 50% off! Applies only to bottles still open from Saturday\, so variety and amount is a surprise!
URL:https://saltcreekwine.com/event/sunday-sips-40/
LOCATION:Salt Creek Wine Company\, 30100 Town Center Dr.\, B-2\, Laguna Niguel\, CA\, 92677\, United States
CATEGORIES:Special Event
ATTACH;FMTTYPE=image/jpeg:https://saltcreekwine.com/wp-content/uploads/2018/04/Wine-Bottles.jpg
ORGANIZER;CN="Salt Creek Wine Company":MAILTO:cheers@saltcreekwine.com
END:VEVENT
BEGIN:VEVENT
DTSTART;TZID=UTC:20191019T183000
DTEND;TZID=UTC:20191019T213000
DTSTAMP:20260423T232344
CREATED:20191016T024514Z
LAST-MODIFIED:20191016T024514Z
UID:3952-1571509800-1571520600@saltcreekwine.com
SUMMARY:Winemaker Event - Bell Winery
DESCRIPTION:Join us as we welcome representatives from Bell Winery out of Yountville in Napa Valley.  We will be tasting their Sauvignon Blanc\, Syrah\, Cabernet and Reserve Cabernet.  Starts at 6:30\, cost is $25.  See you here!
URL:https://saltcreekwine.com/event/winemaker-event-bell-winery/
LOCATION:Salt Creek Wine Company\, 30100 Town Center Dr.\, B-2\, Laguna Niguel\, CA\, 92677\, United States
CATEGORIES:Winemaker Event
ATTACH;FMTTYPE=image/png:https://saltcreekwine.com/wp-content/uploads/2019/10/bell.png
ORGANIZER;CN="Salt Creek Wine Company":MAILTO:cheers@saltcreekwine.com
END:VEVENT
BEGIN:VEVENT
DTSTART;TZID=UTC:20191019T183000
DTEND;TZID=UTC:20191019T213000
DTSTAMP:20260423T232344
CREATED:20190914T205055Z
LAST-MODIFIED:20190914T205055Z
UID:3872-1571509800-1571520600@saltcreekwine.com
SUMMARY:Live Music - Gregory Brock
DESCRIPTION:Kick back with singer/songwriter Greg Brock\, who has several songs that hit the top 20 on the Billboard charts. A native Californian and resident of Laguna Niguel\, listening to Greg on one of his many guitars is the perfect backdrop to sip some new wines!
URL:https://saltcreekwine.com/event/live-music-gregory-brock/
LOCATION:Salt Creek Wine Company\, 30100 Town Center Dr.\, B-2\, Laguna Niguel\, CA\, 92677\, United States
CATEGORIES:Live Music
ATTACH;FMTTYPE=image/jpeg:https://saltcreekwine.com/wp-content/uploads/2018/08/Gregory.jpg
ORGANIZER;CN="Salt Creek Wine Company":MAILTO:cheers@saltcreekwine.com
END:VEVENT
BEGIN:VEVENT
DTSTART;TZID=UTC:20191018T183000
DTEND;TZID=UTC:20191018T213000
DTSTAMP:20260423T232344
CREATED:20190914T212824Z
LAST-MODIFIED:20190914T212824Z
UID:3878-1571423400-1571434200@saltcreekwine.com
SUMMARY:Winemaker Event - Penfolds
DESCRIPTION:Join us as we welcome back Scott Bowden from Treasury Estates as this time he presents Penfolds.  Sit back and enjoy a flight of the best Penfolds has to offer while Scott walks around to teach us what makes these wines so special.
URL:https://saltcreekwine.com/event/winemaker-event-penfolds/
LOCATION:Salt Creek Wine Company\, 30100 Town Center Dr.\, B-2\, Laguna Niguel\, CA\, 92677\, United States
CATEGORIES:Winemaker Event
ATTACH;FMTTYPE=image/png:https://saltcreekwine.com/wp-content/uploads/2019/09/penfolds.png
ORGANIZER;CN="Salt Creek Wine Company":MAILTO:cheers@saltcreekwine.com
END:VEVENT
BEGIN:VEVENT
DTSTART;TZID=UTC:20191013T120000
DTEND;TZID=UTC:20191013T180000
DTSTAMP:20260423T232344
CREATED:20190914T202455Z
LAST-MODIFIED:20190914T202455Z
UID:3846-1570968000-1570989600@saltcreekwine.com
SUMMARY:Sunday Sips
DESCRIPTION:Join us every Sunday for half price by the glass wines from 12 – 6. Special available until we run out… Sundays come enjoy wine-by-the-glass of any open wine at 50% off! Applies only to bottles still open from Saturday\, so variety and amount is a surprise!
URL:https://saltcreekwine.com/event/sunday-sips-36/
LOCATION:Salt Creek Wine Company\, 30100 Town Center Dr.\, B-2\, Laguna Niguel\, CA\, 92677\, United States
CATEGORIES:Special Event
ATTACH;FMTTYPE=image/jpeg:https://saltcreekwine.com/wp-content/uploads/2018/04/Wine-Bottles.jpg
ORGANIZER;CN="Salt Creek Wine Company":MAILTO:cheers@saltcreekwine.com
END:VEVENT
BEGIN:VEVENT
DTSTART;TZID=UTC:20191012T183000
DTEND;TZID=UTC:20191012T213000
DTSTAMP:20260423T232344
CREATED:20190914T204814Z
LAST-MODIFIED:20190914T204814Z
UID:3870-1570905000-1570915800@saltcreekwine.com
SUMMARY:Live Music - Brandon
DESCRIPTION:Brandon is a fun\, interactive entertainer.  Last month Brandon showed us he really know how to play and get a crowd going.  Join us as we welcome him back.  Wine\, cheese\, live music?  Sounds like date night to me!
URL:https://saltcreekwine.com/event/live-music-brandon/
LOCATION:Salt Creek Wine Company\, 30100 Town Center Dr.\, B-2\, Laguna Niguel\, CA\, 92677\, United States
CATEGORIES:Live Music
ATTACH;FMTTYPE=image/jpeg:https://saltcreekwine.com/wp-content/uploads/2019/04/Live-Music.jpg
ORGANIZER;CN="Salt Creek Wine Company":MAILTO:cheers@saltcreekwine.com
END:VEVENT
END:VCALENDAR