BEGIN:VCALENDAR
VERSION:2.0
PRODID:-//Salt Creek Wine Company - ECPv6.15.17.1//NONSGML v1.0//EN
CALSCALE:GREGORIAN
METHOD:PUBLISH
X-ORIGINAL-URL:https://saltcreekwine.com
X-WR-CALDESC:Events for Salt Creek Wine Company
REFRESH-INTERVAL;VALUE=DURATION:PT1H
X-Robots-Tag:noindex
X-PUBLISHED-TTL:PT1H
BEGIN:VTIMEZONE
TZID:UTC
BEGIN:STANDARD
TZOFFSETFROM:+0000
TZOFFSETTO:+0000
TZNAME:UTC
DTSTART:20180101T000000
END:STANDARD
END:VTIMEZONE
BEGIN:VEVENT
DTSTART;TZID=UTC:20200208T183000
DTEND;TZID=UTC:20200208T213000
DTSTAMP:20260423T201602
CREATED:20200119T014747Z
LAST-MODIFIED:20200119T014747Z
UID:4588-1581186600-1581197400@saltcreekwine.com
SUMMARY:Saturday Night Live Music - Dan Forster
DESCRIPTION:Dan Forster returns for a great night of music.  Always a little crazy when Dan is here!
URL:https://saltcreekwine.com/event/saturday-night-live-music-dan-forster/
LOCATION:Salt Creek Wine Company\, 30100 Town Center Dr.\, B-2\, Laguna Niguel\, CA\, 92677\, United States
CATEGORIES:Live Music
ATTACH;FMTTYPE=image/jpeg:https://saltcreekwine.com/wp-content/uploads/2020/01/dan-f.jpg
ORGANIZER;CN="Salt Creek Wine Company":MAILTO:cheers@saltcreekwine.com
END:VEVENT
BEGIN:VEVENT
DTSTART;TZID=UTC:20200202T150000
DTEND;TZID=UTC:20200202T200000
DTSTAMP:20260423T201602
CREATED:20200118T222153Z
LAST-MODIFIED:20200118T222153Z
UID:4584-1580655600-1580673600@saltcreekwine.com
SUMMARY:Big Game Party
DESCRIPTION:Join us Sunday February 2nd for the Big Game!  For just $25 if you Meet at the Creek to watch the game you’ll get a cheeseburger\, hot dog\, bag of chips and 2 drink tickets!  Let us know if you can make it so I know how many burgers to buy!
URL:https://saltcreekwine.com/event/big-game-party/
LOCATION:Salt Creek Wine Company\, 30100 Town Center Dr.\, B-2\, Laguna Niguel\, CA\, 92677\, United States
CATEGORIES:Special Event
ATTACH;FMTTYPE=image/jpeg:https://saltcreekwine.com/wp-content/uploads/2019/01/The-Big-Game.jpg
ORGANIZER;CN="Salt Creek Wine Company":MAILTO:cheers@saltcreekwine.com
END:VEVENT
BEGIN:VEVENT
DTSTART;TZID=UTC:20200125T183000
DTEND;TZID=UTC:20200125T213000
DTSTAMP:20260423T201602
CREATED:20200102T072412Z
LAST-MODIFIED:20200102T072412Z
UID:4420-1579977000-1579987800@saltcreekwine.com
SUMMARY:Live Music - Ashun
DESCRIPTION:Join us we welcome back Salt Creek favorite Ashun.  Guitar Virtuoso Ashun is an unbelievable talent who never fails to entertain!  He provides the perfect backdrop to a fun evening of friends\, wine and song!
URL:https://saltcreekwine.com/event/live-music-ashun-2/
LOCATION:Salt Creek Wine Company\, 30100 Town Center Dr.\, B-2\, Laguna Niguel\, CA\, 92677\, United States
CATEGORIES:Live Music
ATTACH;FMTTYPE=image/jpeg:https://saltcreekwine.com/wp-content/uploads/2018/10/Ashun-Guitar.jpg
ORGANIZER;CN="Salt Creek Wine Company":MAILTO:cheers@saltcreekwine.com
END:VEVENT
BEGIN:VEVENT
DTSTART;TZID=UTC:20200118T183000
DTEND;TZID=UTC:20200118T213000
DTSTAMP:20260423T201602
CREATED:20191228T002338Z
LAST-MODIFIED:20200102T060453Z
UID:4146-1579372200-1579383000@saltcreekwine.com
SUMMARY:Live Music - Greg Brock
DESCRIPTION:Meet at the Creek for top 20 recording artist and local Laguna Niguel resident Greg Brock!  Listening to Greg on one of his many guitars is the perfect backdrop to sit back\, sip some wine and enjoy!
URL:https://saltcreekwine.com/event/live-music-greg-brock-3/
LOCATION:Salt Creek Wine Company\, 30100 Town Center Dr.\, B-2\, Laguna Niguel\, CA\, 92677\, United States
CATEGORIES:Live Music
ATTACH;FMTTYPE=image/jpeg:https://saltcreekwine.com/wp-content/uploads/2018/08/Gregory.jpg
ORGANIZER;CN="Salt Creek Wine Company":MAILTO:cheers@saltcreekwine.com
END:VEVENT
BEGIN:VEVENT
DTSTART;TZID=UTC:20200116T183000
DTEND;TZID=UTC:20200116T210000
DTSTAMP:20260423T201602
CREATED:20191228T001825Z
LAST-MODIFIED:20191228T001825Z
UID:4144-1579199400-1579208400@saltcreekwine.com
SUMMARY:1ST ANNUAL CHILI COOKOFF!
DESCRIPTION:How good is your chili?  Whether you want to make chili and compete or just come in and eat and judge\, join us for the First Annual Salt Creek Wine Company Chili Cookoff!
URL:https://saltcreekwine.com/event/1st-annual-chili-cookoff/
LOCATION:Salt Creek Wine Company\, 30100 Town Center Dr.\, B-2\, Laguna Niguel\, CA\, 92677\, United States
CATEGORIES:Wine Pairing Meal
ATTACH;FMTTYPE=image/jpeg:https://saltcreekwine.com/wp-content/uploads/2016/12/chef.jpg
END:VEVENT
BEGIN:VEVENT
DTSTART;TZID=UTC:20200111T183000
DTEND;TZID=UTC:20200111T213000
DTSTAMP:20260423T201602
CREATED:20191227T234412Z
LAST-MODIFIED:20200102T062157Z
UID:4134-1578767400-1578778200@saltcreekwine.com
SUMMARY:Live Music - Jimmy G!
DESCRIPTION:Join us for Saturday Night Live Music as we welcome back Jazz Sax Player Extraordinaire Jimmy G!  Jimmy G has played around the world with many of the legends in the Jazz world and always puts on a great show.  We are privileged to have Jimmy G perform at The Creek\, usually with special guests!  Sit back\, sip\, listen\, make a new friend and enjoy!
URL:https://saltcreekwine.com/event/live-music-jimmy-g-2/
LOCATION:Salt Creek Wine Company\, 30100 Town Center Dr.\, B-2\, Laguna Niguel\, CA\, 92677\, United States
CATEGORIES:Live Music
ATTACH;FMTTYPE=image/jpeg:https://saltcreekwine.com/wp-content/uploads/2018/10/Live-Music-Jimmy-G.jpg
END:VEVENT
BEGIN:VEVENT
DTSTART;TZID=UTC:20200109T140000
DTEND;TZID=UTC:20200109T210000
DTSTAMP:20260423T201602
CREATED:20200110T005220Z
LAST-MODIFIED:20200110T005220Z
UID:4484-1578578400-1578603600@saltcreekwine.com
SUMMARY:Thirsty Thursday
DESCRIPTION:All day Thursday\, Meet at the Creek and choose any 10 wines off of our 32 deep wine by the glass list and get a sample pour of each for just $15.  A great opportunity to figure out what you like!
URL:https://saltcreekwine.com/event/thirsty-thursday/
LOCATION:Salt Creek Wine Company\, 30100 Town Center Dr.\, B-2\, Laguna Niguel\, CA\, 92677\, United States
CATEGORIES:Special Event
ATTACH;FMTTYPE=image/jpeg:https://saltcreekwine.com/wp-content/uploads/2020/01/layered-bar.jpg
ORGANIZER;CN="Salt Creek Wine Company":MAILTO:cheers@saltcreekwine.com
END:VEVENT
BEGIN:VEVENT
DTSTART;TZID=UTC:20200108T183000
DTEND;TZID=UTC:20200108T203000
DTSTAMP:20260423T201602
CREATED:20190914T224024Z
LAST-MODIFIED:20191229T023439Z
UID:3903-1578508200-1578515400@saltcreekwine.com
SUMMARY:Vineology - Napa
DESCRIPTION:$30 per class. Join us for Marcelino Cosio’s class on Napa. Enjoy 5 different wines from the region and a small cheese tray while Marcelino teaches us all what makes Oregon special. Marcelino’s classes fill up quickly\, give us a call or sign up today.\n$30 per class.
URL:https://saltcreekwine.com/event/vineology-napa/
LOCATION:Salt Creek Wine Company\, 30100 Town Center Dr.\, B-2\, Laguna Niguel\, CA\, 92677\, United States
CATEGORIES:Special Event
ATTACH;FMTTYPE=image/jpeg:https://saltcreekwine.com/wp-content/uploads/2019/08/marci1.jpg
ORGANIZER;CN="Salt Creek Wine Company":MAILTO:cheers@saltcreekwine.com
END:VEVENT
BEGIN:VEVENT
DTSTART;TZID=UTC:20200108T140000
DTEND;TZID=UTC:20200108T210000
DTSTAMP:20260423T201602
CREATED:20200102T065516Z
LAST-MODIFIED:20200102T065516Z
UID:4300-1578492000-1578517200@saltcreekwine.com
SUMMARY:Wine Wednesday
DESCRIPTION:Break up the week when you Meet at the Creek on Wine Wednesdays!  Pick out any bottle on the shelf to drink in the bar and not only will we waive the corkage fee but on Wine Wednesdays you’ll also get 10% off!  Valid only on bottles bought to drink in the bar.
URL:https://saltcreekwine.com/event/wine-wednesday/
LOCATION:Salt Creek Wine Company\, 30100 Town Center Dr.\, B-2\, Laguna Niguel\, CA\, 92677\, United States
ATTACH;FMTTYPE=image/jpeg:https://saltcreekwine.com/wp-content/uploads/2020/01/cakemus.jpg
ORGANIZER;CN="Salt Creek Wine Company":MAILTO:cheers@saltcreekwine.com
END:VEVENT
BEGIN:VEVENT
DTSTART;TZID=UTC:20200107T140000
DTEND;TZID=UTC:20200107T210000
DTSTAMP:20260423T201602
CREATED:20200102T063425Z
LAST-MODIFIED:20200102T063425Z
UID:4245-1578405600-1578430800@saltcreekwine.com
SUMMARY:Usual Suspects
DESCRIPTION:Join us every Tuesday for Usual Suspects Night.  One of the greatest things about Salt Creek Wine Company is our Wine Club Members.  In honor of them we present Usual Suspects Night\, where you bring a friend\, buy them a glass of wine\, and we will buy you a glass of wine!  Meet at the Creek on Tuesday nights and you’re guaranteed to make a new friend!
URL:https://saltcreekwine.com/event/usual-suspects/
LOCATION:CA
CATEGORIES:Special Event
ATTACH;FMTTYPE=image/jpeg:https://saltcreekwine.com/wp-content/uploads/2020/01/usual-suspects.jpg
END:VEVENT
BEGIN:VEVENT
DTSTART;TZID=UTC:20200105T120000
DTEND;TZID=UTC:20200105T180000
DTSTAMP:20260423T201602
CREATED:20200102T055654Z
LAST-MODIFIED:20200102T071807Z
UID:4158-1578225600-1578247200@saltcreekwine.com
SUMMARY:Sunday Sips
DESCRIPTION:Join us every Sunday from 12 – 6 for half price wine by the glass! \nSundays come enjoy wine by the glass of any open wine at 50% off!  Applies only to bottles still open from Saturday\, so variety and amount is always a surprise!  Special available until we run out.
URL:https://saltcreekwine.com/event/sunday-sips-51/
LOCATION:Salt Creek Wine Company\, 30100 Town Center Dr.\, B-2\, Laguna Niguel\, CA\, 92677\, United States
CATEGORIES:Special Event
ATTACH;FMTTYPE=image/jpeg:https://saltcreekwine.com/wp-content/uploads/2020/01/sunday-lineup-1.jpg
ORGANIZER;CN="Salt Creek Wine Company":MAILTO:cheers@saltcreekwine.com
END:VEVENT
BEGIN:VEVENT
DTSTART;TZID=UTC:20200104T183000
DTEND;TZID=UTC:20200104T213000
DTSTAMP:20260423T201602
CREATED:20191227T233835Z
LAST-MODIFIED:20200102T061436Z
UID:4132-1578162600-1578173400@saltcreekwine.com
SUMMARY:Live Music - Rachel Landrum
DESCRIPTION:Join us at 6:30 for wine and song!  We welcome back Rachel Landrum\, singer songwriter\, pianist!  Always a fun time\, meet at The Creek for great music\, great friends and great wine!
URL:https://saltcreekwine.com/event/live-music-rachel/
LOCATION:Salt Creek Wine Company\, 30100 Town Center Dr.\, B-2\, Laguna Niguel\, CA\, 92677\, United States
CATEGORIES:Live Music
ATTACH;FMTTYPE=image/jpeg:https://saltcreekwine.com/wp-content/uploads/2019/09/rachel-e1568492044277.jpg
ORGANIZER;CN="Salt Creek Wine Company":MAILTO:cheers@saltcreekwine.com
END:VEVENT
BEGIN:VEVENT
DTSTART;VALUE=DATE:20200101
DTEND;VALUE=DATE:20200102
DTSTAMP:20260423T201602
CREATED:20191227T232918Z
LAST-MODIFIED:20191227T232918Z
UID:4128-1577836800-1577923199@saltcreekwine.com
SUMMARY:CLOSED FOR NEW YEARS
DESCRIPTION:We are closed today!  Happy New Year!
URL:https://saltcreekwine.com/event/closed-for-new-years/
LOCATION:Salt Creek Wine Company\, 30100 Town Center Dr.\, B-2\, Laguna Niguel\, CA\, 92677\, United States
ATTACH;FMTTYPE=image/jpeg:https://saltcreekwine.com/wp-content/uploads/2019/01/Happy-New-Year.jpg
ORGANIZER;CN="Salt Creek Wine Company":MAILTO:cheers@saltcreekwine.com
END:VEVENT
BEGIN:VEVENT
DTSTART;TZID=UTC:20191231T120000
DTEND;TZID=UTC:20191231T170000
DTSTAMP:20260423T201602
CREATED:20191227T233305Z
LAST-MODIFIED:20191227T233305Z
UID:4130-1577793600-1577811600@saltcreekwine.com
SUMMARY:New Year's Eve - Special Hours
DESCRIPTION:We will be open 12 – 5 New Year’s Eve for any last minute shopping needs.
URL:https://saltcreekwine.com/event/new-years-eve-special-hours/
LOCATION:Salt Creek Wine Company\, 30100 Town Center Dr.\, B-2\, Laguna Niguel\, CA\, 92677\, United States
ATTACH;FMTTYPE=image/jpeg:https://saltcreekwine.com/wp-content/uploads/2019/09/ironhorse.jpg
ORGANIZER;CN="Salt Creek Wine Company":MAILTO:cheers@saltcreekwine.com
END:VEVENT
BEGIN:VEVENT
DTSTART;TZID=UTC:20191229T120000
DTEND;TZID=UTC:20191229T180000
DTSTAMP:20260423T201602
CREATED:20190914T204432Z
LAST-MODIFIED:20190914T204432Z
UID:3868-1577620800-1577642400@saltcreekwine.com
SUMMARY:Sunday Sips
DESCRIPTION:Join us every Sunday for half price by the glass wines from 12 – 6. Special available until we run out… Sundays come enjoy wine-by-the-glass of any open wine at 50% off! Applies only to bottles still open from Saturday\, so variety and amount is a surprise!
URL:https://saltcreekwine.com/event/sunday-sips-50/
LOCATION:Salt Creek Wine Company\, 30100 Town Center Dr.\, B-2\, Laguna Niguel\, CA\, 92677\, United States
CATEGORIES:Special Event
ATTACH;FMTTYPE=image/jpeg:https://saltcreekwine.com/wp-content/uploads/2018/04/Wine-Bottles.jpg
ORGANIZER;CN="Salt Creek Wine Company":MAILTO:cheers@saltcreekwine.com
END:VEVENT
BEGIN:VEVENT
DTSTART;TZID=UTC:20191222T120000
DTEND;TZID=UTC:20191222T180000
DTSTAMP:20260423T201602
CREATED:20190914T203816Z
LAST-MODIFIED:20190914T203816Z
UID:3866-1577016000-1577037600@saltcreekwine.com
SUMMARY:Sunday Sips
DESCRIPTION:Join us every Sunday for half price by the glass wines from 12 – 6. Special available until we run out… Sundays come enjoy wine-by-the-glass of any open wine at 50% off! Applies only to bottles still open from Saturday\, so variety and amount is a surprise!
URL:https://saltcreekwine.com/event/sunday-sips-49/
LOCATION:Salt Creek Wine Company\, 30100 Town Center Dr.\, B-2\, Laguna Niguel\, CA\, 92677\, United States
CATEGORIES:Special Event
ATTACH;FMTTYPE=image/jpeg:https://saltcreekwine.com/wp-content/uploads/2018/04/Wine-Bottles.jpg
ORGANIZER;CN="Salt Creek Wine Company":MAILTO:cheers@saltcreekwine.com
END:VEVENT
BEGIN:VEVENT
DTSTART;TZID=UTC:20191221T183000
DTEND;TZID=UTC:20191221T213000
DTSTAMP:20260423T201602
CREATED:20190914T212044Z
LAST-MODIFIED:20190914T212044Z
UID:3876-1576953000-1576963800@saltcreekwine.com
SUMMARY:Live Music - Greg Brock
DESCRIPTION:Kick back with singer/songwriter Greg Brock\, who has several songs that hit the top 20 on the Billboard charts. A native Californian and resident of Laguna Niguel\, listening to Greg on one of his many guitars is the perfect backdrop to sip some new wines!
URL:https://saltcreekwine.com/event/live-music-greg-brock-2/
LOCATION:Salt Creek Wine Company\, 30100 Town Center Dr.\, B-2\, Laguna Niguel\, CA\, 92677\, United States
CATEGORIES:Live Music
ATTACH;FMTTYPE=image/jpeg:https://saltcreekwine.com/wp-content/uploads/2018/08/Gregory.jpg
ORGANIZER;CN="Salt Creek Wine Company":MAILTO:cheers@saltcreekwine.com
END:VEVENT
BEGIN:VEVENT
DTSTART;TZID=UTC:20191220T183000
DTEND;TZID=UTC:20191220T213000
DTSTAMP:20260423T201602
CREATED:20191218T023324Z
LAST-MODIFIED:20191218T023324Z
UID:4122-1576866600-1576877400@saltcreekwine.com
SUMMARY:Ancient Peaks Winemaker Event
DESCRIPTION:Come meet representatives of one of our favorite wineries\, Ancient Peaks.  Meet at the Creek for a special tasting!
URL:https://saltcreekwine.com/event/ancient-peaks-winemaker-event/
LOCATION:Salt Creek Wine Company\, 30100 Town Center Dr.\, B-2\, Laguna Niguel\, CA\, 92677\, United States
CATEGORIES:Winemaker Event
ATTACH;FMTTYPE=image/jpeg:https://saltcreekwine.com/wp-content/uploads/2019/04/Ancient-Peaks-Winery.jpg
END:VEVENT
BEGIN:VEVENT
DTSTART;TZID=UTC:20191219T183000
DTEND;TZID=UTC:20191219T203000
DTSTAMP:20260423T201602
CREATED:20190914T232933Z
LAST-MODIFIED:20191204T015912Z
UID:3918-1576780200-1576787400@saltcreekwine.com
SUMMARY:Wine Pairing Dinner - $45
DESCRIPTION:Friday\, December 19th\, 6:30 pm – $45 \nArgentine Asado from the owner and chef of Villa Roma. Skirt Steak\, Flap Meat\, Chorizo and Chicken with Green Salad expertly paired with wines from Marcelino.
URL:https://saltcreekwine.com/event/wine-pairing-dinner-3/
LOCATION:Salt Creek Wine Company\, 30100 Town Center Dr.\, B-2\, Laguna Niguel\, CA\, 92677\, United States
CATEGORIES:Wine Pairing Meal
ATTACH;FMTTYPE=image/jpeg:https://saltcreekwine.com/wp-content/uploads/2019/01/Wine-Winner-e1562728627110.jpg
ORGANIZER;CN="Salt Creek Wine Company":MAILTO:cheers@saltcreekwine.com
END:VEVENT
BEGIN:VEVENT
DTSTART;TZID=UTC:20191215T120000
DTEND;TZID=UTC:20191215T180000
DTSTAMP:20260423T201602
CREATED:20190914T203704Z
LAST-MODIFIED:20190914T203704Z
UID:3864-1576411200-1576432800@saltcreekwine.com
SUMMARY:Sunday Sips
DESCRIPTION:Join us every Sunday for half price by the glass wines from 12 – 6. Special available until we run out… Sundays come enjoy wine-by-the-glass of any open wine at 50% off! Applies only to bottles still open from Saturday\, so variety and amount is a surprise!
URL:https://saltcreekwine.com/event/sunday-sips-48/
LOCATION:Salt Creek Wine Company\, 30100 Town Center Dr.\, B-2\, Laguna Niguel\, CA\, 92677\, United States
CATEGORIES:Special Event
ATTACH;FMTTYPE=image/jpeg:https://saltcreekwine.com/wp-content/uploads/2018/04/Wine-Bottles.jpg
ORGANIZER;CN="Salt Creek Wine Company":MAILTO:cheers@saltcreekwine.com
END:VEVENT
BEGIN:VEVENT
DTSTART;TZID=UTC:20191213T190000
DTEND;TZID=UTC:20191213T210000
DTSTAMP:20260423T201602
CREATED:20190914T232507Z
LAST-MODIFIED:20191204T015429Z
UID:3916-1576263600-1576270800@saltcreekwine.com
SUMMARY:VIP Tasting - $125
DESCRIPTION:Friday\, December 13th\, 7:00 pm – $125 \nMeet at the Creek for an incredible opportunity to try some of the most iconic wines in the world! \nThis year’s VIP tasting features:\nOpus One (retail $365)\, \nPenfold’s Grange (retail $625)\, \nCaymus Special Selection (retail $180)\, \nBV Georges De LaTour (Retail $130)\, \nChimney Rock Tomahawk Vineyard (retail $180) \nKathryn Hall Napa Cab (retail $180) \nAt this tasting you will receive 2 ounce pours in sets of 3 to compare and contrast while 2 of the top Somms in Orange County speak of the wonders of these wines. This is definitely an event you do not want to miss. Seating is limited and last year did sell out\, so sign up soon. \n$125 for the tasting
URL:https://saltcreekwine.com/event/vip-tasting-3/
LOCATION:Salt Creek Wine Company\, 30100 Town Center Dr.\, B-2\, Laguna Niguel\, CA\, 92677\, United States
CATEGORIES:Special Event
ATTACH;FMTTYPE=image/jpeg:https://saltcreekwine.com/wp-content/uploads/2019/07/vip-table.jpg
ORGANIZER;CN="Salt Creek Wine Company":MAILTO:cheers@saltcreekwine.com
END:VEVENT
BEGIN:VEVENT
DTSTART;TZID=UTC:20191211T183000
DTEND;TZID=UTC:20191211T203000
DTSTAMP:20260423T201602
CREATED:20190914T223911Z
LAST-MODIFIED:20190914T224118Z
UID:3901-1576089000-1576096200@saltcreekwine.com
SUMMARY:Vineology - Santa Barbara
DESCRIPTION:$30 per class. Join us for Marcelino Cosio’s class on Santa Barbara. Enjoy 5 different wines from the region and a small cheese tray while Marcelino teaches us all what makes Oregon special. Marcelino’s classes fill up quickly\, give us a call or sign up today.\n$30 per class.
URL:https://saltcreekwine.com/event/vineology-santa-barbara/
LOCATION:CA
CATEGORIES:Special Event
ATTACH;FMTTYPE=image/jpeg:https://saltcreekwine.com/wp-content/uploads/2019/08/marci1.jpg
END:VEVENT
BEGIN:VEVENT
DTSTART;TZID=UTC:20191208T120000
DTEND;TZID=UTC:20191208T180000
DTSTAMP:20260423T201602
CREATED:20190914T203605Z
LAST-MODIFIED:20190914T203605Z
UID:3862-1575806400-1575828000@saltcreekwine.com
SUMMARY:Sunday Sips
DESCRIPTION:Join us every Sunday for half price by the glass wines from 12 – 6. Special available until we run out… Sundays come enjoy wine-by-the-glass of any open wine at 50% off! Applies only to bottles still open from Saturday\, so variety and amount is a surprise!
URL:https://saltcreekwine.com/event/sunday-sips-47/
LOCATION:Salt Creek Wine Company\, 30100 Town Center Dr.\, B-2\, Laguna Niguel\, CA\, 92677\, United States
CATEGORIES:Special Event
ATTACH;FMTTYPE=image/jpeg:https://saltcreekwine.com/wp-content/uploads/2018/04/Wine-Bottles.jpg
ORGANIZER;CN="Salt Creek Wine Company":MAILTO:cheers@saltcreekwine.com
END:VEVENT
BEGIN:VEVENT
DTSTART;TZID=UTC:20191207T183000
DTEND;TZID=UTC:20191207T213000
DTSTAMP:20260423T201602
CREATED:20190914T222312Z
LAST-MODIFIED:20190914T222312Z
UID:3892-1575743400-1575754200@saltcreekwine.com
SUMMARY:Live Music - Rachel Landrum
DESCRIPTION:Rachel’s back tonight. If you missed her last time here is your chance to catch a rising star! Sip some wine\, snack on some cheese and listen to some incredible music. Sounds like a great night to me!
URL:https://saltcreekwine.com/event/live-music-rachel-landrum/
LOCATION:Salt Creek Wine Company\, 30100 Town Center Dr.\, B-2\, Laguna Niguel\, CA\, 92677\, United States
CATEGORIES:Live Music
ATTACH;FMTTYPE=image/jpeg:https://saltcreekwine.com/wp-content/uploads/2019/09/rachel-e1568492044277.jpg
ORGANIZER;CN="Salt Creek Wine Company":MAILTO:cheers@saltcreekwine.com
END:VEVENT
BEGIN:VEVENT
DTSTART;TZID=UTC:20191206T183000
DTEND;TZID=UTC:20191206T203000
DTSTAMP:20260423T201602
CREATED:20190914T231541Z
LAST-MODIFIED:20191204T015533Z
UID:3911-1575657000-1575664200@saltcreekwine.com
SUMMARY:Bubbles and Caviar - $49
DESCRIPTION:Friday\, December 6th\, 6:30 pm – $49 \n4 courses of Iron Horse Sparkling Wine expertly paired with different caviar. \n1st Course: Caviar on cucumber with dill and creme fresh\nPaired with Iron Horse Ocean Reserve \n2nd Course: Caviar on toast with eggs\, capers\, sour cream\nPaired with Iron Horse Brut \n3rd Course: Caviar on Blini with chives and creme fresh\nPaired with Iron Horse Wedding Cuvee \n4th Course: Farmed Russian Oestra Plaza De Caviar\nPaired with Iron Horse Russian Cuvee \nFEATURING THE SOOTHING JAZZ SOUNDS FROM OUR FAVORITE MUSICIAN\, JIMMY G!
URL:https://saltcreekwine.com/event/champagne-and-caviar/
LOCATION:Salt Creek Wine Company\, 30100 Town Center Dr.\, B-2\, Laguna Niguel\, CA\, 92677\, United States
CATEGORIES:Special Event
ATTACH;FMTTYPE=image/jpeg:https://saltcreekwine.com/wp-content/uploads/2019/09/ironhorse.jpg
END:VEVENT
BEGIN:VEVENT
DTSTART;TZID=UTC:20191201T120000
DTEND;TZID=UTC:20191201T180000
DTSTAMP:20260423T201602
CREATED:20190914T203459Z
LAST-MODIFIED:20190914T203459Z
UID:3860-1575201600-1575223200@saltcreekwine.com
SUMMARY:Sunday Sips
DESCRIPTION:Join us every Sunday for half price by the glass wines from 12 – 6. Special available until we run out… Sundays come enjoy wine-by-the-glass of any open wine at 50% off! Applies only to bottles still open from Saturday\, so variety and amount is a surprise!
URL:https://saltcreekwine.com/event/sunday-sips-46/
LOCATION:Salt Creek Wine Company\, 30100 Town Center Dr.\, B-2\, Laguna Niguel\, CA\, 92677\, United States
CATEGORIES:Special Event
ATTACH;FMTTYPE=image/jpeg:https://saltcreekwine.com/wp-content/uploads/2018/04/Wine-Bottles.jpg
ORGANIZER;CN="Salt Creek Wine Company":MAILTO:cheers@saltcreekwine.com
END:VEVENT
BEGIN:VEVENT
DTSTART;VALUE=DATE:20191128
DTEND;VALUE=DATE:20191129
DTSTAMP:20260423T201602
CREATED:20190914T225522Z
LAST-MODIFIED:20190914T225522Z
UID:3909-1574899200-1574985599@saltcreekwine.com
SUMMARY:CLOSED FOR THANKSGIVING
DESCRIPTION:Happy Thanksgiving!  We are thankful for all of you!
URL:https://saltcreekwine.com/event/closed-for-thanksgiving/
LOCATION:CA
CATEGORIES:Private Event
ATTACH;FMTTYPE=image/jpeg:https://saltcreekwine.com/wp-content/uploads/2018/10/Thanksgiving.jpg
END:VEVENT
BEGIN:VEVENT
DTSTART;TZID=UTC:20191124T120000
DTEND;TZID=UTC:20191124T180000
DTSTAMP:20260423T201602
CREATED:20190914T203343Z
LAST-MODIFIED:20190914T203343Z
UID:3858-1574596800-1574618400@saltcreekwine.com
SUMMARY:Sunday Sips
DESCRIPTION:Join us every Sunday for half price by the glass wines from 12 – 6. Special available until we run out… Sundays come enjoy wine-by-the-glass of any open wine at 50% off! Applies only to bottles still open from Saturday\, so variety and amount is a surprise!
URL:https://saltcreekwine.com/event/sunday-sips-45/
LOCATION:Salt Creek Wine Company\, 30100 Town Center Dr.\, B-2\, Laguna Niguel\, CA\, 92677\, United States
CATEGORIES:Special Event
ATTACH;FMTTYPE=image/jpeg:https://saltcreekwine.com/wp-content/uploads/2018/04/Wine-Bottles.jpg
ORGANIZER;CN="Salt Creek Wine Company":MAILTO:cheers@saltcreekwine.com
END:VEVENT
BEGIN:VEVENT
DTSTART;TZID=UTC:20191123T183000
DTEND;TZID=UTC:20191123T213000
DTSTAMP:20260423T201602
CREATED:20191116T000415Z
LAST-MODIFIED:20191116T000415Z
UID:4009-1574533800-1574544600@saltcreekwine.com
SUMMARY:Live Music - Jimmy G!
DESCRIPTION:Please join us as we welcome back Jimmy G and some of his friends!  Accomplished Jazz Saxophonist James Gonzales returns with accompaniment from Dan Forester as well as wine club members Tony\, Mona and Deana!
URL:https://saltcreekwine.com/event/live-music-jimmy-g/
LOCATION:Salt Creek Wine Company\, 30100 Town Center Dr.\, B-2\, Laguna Niguel\, CA\, 92677\, United States
CATEGORIES:Live Music
ATTACH;FMTTYPE=image/jpeg:https://saltcreekwine.com/wp-content/uploads/2018/10/Live-Music-Jimmy-G.jpg
ORGANIZER;CN="Salt Creek Wine Company":MAILTO:cheers@saltcreekwine.com
END:VEVENT
BEGIN:VEVENT
DTSTART;TZID=UTC:20191122T183000
DTEND;TZID=UTC:20191122T213000
DTSTAMP:20260423T201602
CREATED:20191113T190717Z
LAST-MODIFIED:20191113T190717Z
UID:3993-1574447400-1574458200@saltcreekwine.com
SUMMARY:King Frosch Winemaker Event
DESCRIPTION:Come meet the owners of Laguna Niguel’s own wine importer/maker King Frosch. King Frosch Wines brings the best “all natural” wine marvels directly to you. If you’ve ever traveled to Europe and have fond memories of the delectable\, drinkable wines you enjoyed in lovely outdoor “Weingartens” or quaint wine cellars and bistros\, now you can relive those moments at home with King Frosch Wines.  In 2004\, German wine expert and King Frosch Wines founder\, Klaus Bellinghausen\, decided to bring his understanding of the European wine culture to the U.S. He opened King Frosch Wines as a branch of his international trade organization\, Bellinghausen Business Group\, LTD\, and made it his mission to bring “All Natural Wines” to America. Today King Frosch’s success is proven with several thousand customers\, and a portfolio of German and other European wines that is unmatched.
URL:https://saltcreekwine.com/event/king-frosch-winemaker-event/
LOCATION:Salt Creek Wine Company\, 30100 Town Center Dr.\, B-2\, Laguna Niguel\, CA\, 92677\, United States
CATEGORIES:Winemaker Event
ATTACH;FMTTYPE=image/png:https://saltcreekwine.com/wp-content/uploads/2019/11/king-frosch-frog.png
ORGANIZER;CN="Salt Creek Wine Company":MAILTO:cheers@saltcreekwine.com
END:VEVENT
END:VCALENDAR