BEGIN:VCALENDAR
VERSION:2.0
PRODID:-//Salt Creek Wine Company - ECPv6.15.17.1//NONSGML v1.0//EN
CALSCALE:GREGORIAN
METHOD:PUBLISH
X-WR-CALNAME:Salt Creek Wine Company
X-ORIGINAL-URL:https://saltcreekwine.com
X-WR-CALDESC:Events for Salt Creek Wine Company
REFRESH-INTERVAL;VALUE=DURATION:PT1H
X-Robots-Tag:noindex
X-PUBLISHED-TTL:PT1H
BEGIN:VTIMEZONE
TZID:UTC
BEGIN:STANDARD
TZOFFSETFROM:+0000
TZOFFSETTO:+0000
TZNAME:UTC
DTSTART:20180101T000000
END:STANDARD
END:VTIMEZONE
BEGIN:VTIMEZONE
TZID:America/Los_Angeles
BEGIN:DAYLIGHT
TZOFFSETFROM:-0800
TZOFFSETTO:-0700
TZNAME:PDT
DTSTART:20180311T100000
END:DAYLIGHT
BEGIN:STANDARD
TZOFFSETFROM:-0700
TZOFFSETTO:-0800
TZNAME:PST
DTSTART:20181104T090000
END:STANDARD
BEGIN:DAYLIGHT
TZOFFSETFROM:-0800
TZOFFSETTO:-0700
TZNAME:PDT
DTSTART:20190310T100000
END:DAYLIGHT
BEGIN:STANDARD
TZOFFSETFROM:-0700
TZOFFSETTO:-0800
TZNAME:PST
DTSTART:20191103T090000
END:STANDARD
BEGIN:DAYLIGHT
TZOFFSETFROM:-0800
TZOFFSETTO:-0700
TZNAME:PDT
DTSTART:20200308T100000
END:DAYLIGHT
BEGIN:STANDARD
TZOFFSETFROM:-0700
TZOFFSETTO:-0800
TZNAME:PST
DTSTART:20201101T090000
END:STANDARD
END:VTIMEZONE
BEGIN:VEVENT
DTSTART;TZID=UTC:20190818T120000
DTEND;TZID=UTC:20190818T180000
DTSTAMP:20260424T073109
CREATED:20190706T170405Z
LAST-MODIFIED:20190706T170405Z
UID:3540-1566129600-1566151200@saltcreekwine.com
SUMMARY:Sunday Sips
DESCRIPTION:Special available until we run out… Sundays come enjoy wine-by-the-glass of any open wine at 50% off! Applies only to bottles still open from Saturday\, so variety and amount is a surprise!
URL:https://saltcreekwine.com/event/sunday-sips-33/
LOCATION:Salt Creek Wine Company\, 30100 Town Center Dr.\, B-2\, Laguna Niguel\, CA\, 92677\, United States
ATTACH;FMTTYPE=image/jpeg:https://saltcreekwine.com/wp-content/uploads/2018/04/Wine-Bottles.jpg
END:VEVENT
BEGIN:VEVENT
DTSTART;TZID=UTC:20190817T183000
DTEND;TZID=UTC:20190817T213000
DTSTAMP:20260424T073109
CREATED:20190710T032259Z
LAST-MODIFIED:20190710T032259Z
UID:3619-1566066600-1566077400@saltcreekwine.com
SUMMARY:Live Music with Gregory Brock
DESCRIPTION:Kick back with singer/songwriter Greg Brock\, who has several songs that hit the top 20 on the Billboard charts. A native Californian and resident of Laguna Niguel\, listening to Greg on one of his many guitars is the perfect backdrop to sip some new wines!
URL:https://saltcreekwine.com/event/live-music-with-gregory-brock-13/
LOCATION:Salt Creek Wine Company\, 30100 Town Center Dr.\, B-2\, Laguna Niguel\, CA\, 92677\, United States
CATEGORIES:Live Music
ATTACH;FMTTYPE=image/jpeg:https://saltcreekwine.com/wp-content/uploads/2018/08/Gregory.jpg
ORGANIZER;CN="Salt Creek Wine Company":MAILTO:cheers@saltcreekwine.com
END:VEVENT
BEGIN:VEVENT
DTSTART;TZID=UTC:20190814T183000
DTEND;TZID=UTC:20190814T203000
DTSTAMP:20260424T073109
CREATED:20190227T033902Z
LAST-MODIFIED:20190227T033902Z
UID:3201-1565807400-1565814600@saltcreekwine.com
SUMMARY:Vinology - Learn About Argentinian Wine with Marcelino
DESCRIPTION:Join us for this last class of an informative flight to different regions.  You will enjoy a 5-tasting flight from each region\, with sommelier Marcelino Cosio walking you through the complexities and highlights. \nThis month we adventure to Argentina \nCost: $30 per person includes a 5-taste flight and cheese
URL:https://saltcreekwine.com/event/vinology-learn-about-argentinian-wine-with-marcelino/
LOCATION:Salt Creek Wine Company\, 30100 Town Center Dr.\, B-2\, Laguna Niguel\, CA\, 92677\, United States
CATEGORIES:Special Event
ATTACH;FMTTYPE=image/jpeg:https://saltcreekwine.com/wp-content/uploads/2019/02/Argentina.jpg
END:VEVENT
BEGIN:VEVENT
DTSTART;TZID=UTC:20190811T120000
DTEND;TZID=UTC:20190811T180000
DTSTAMP:20260424T073109
CREATED:20190706T170233Z
LAST-MODIFIED:20190706T170233Z
UID:3538-1565524800-1565546400@saltcreekwine.com
SUMMARY:Sunday Sips
DESCRIPTION:Special available until we run out… Sundays come enjoy wine-by-the-glass of any open wine at 50% off! Applies only to bottles still open from Saturday\, so variety and amount is a surprise!
URL:https://saltcreekwine.com/event/sunday-sips-32/
LOCATION:Salt Creek Wine Company\, 30100 Town Center Dr.\, B-2\, Laguna Niguel\, CA\, 92677\, United States
ATTACH;FMTTYPE=image/jpeg:https://saltcreekwine.com/wp-content/uploads/2018/04/Wine-Bottles.jpg
END:VEVENT
BEGIN:VEVENT
DTSTART;TZID=UTC:20190810T183000
DTEND;TZID=UTC:20190810T213000
DTSTAMP:20260424T073109
CREATED:20190728T215019Z
LAST-MODIFIED:20190728T215019Z
UID:3666-1565461800-1565472600@saltcreekwine.com
SUMMARY:Live Music with Aja Jean
DESCRIPTION:Aja Jean’s debut was a roaring success so we welcome her back this month with open arms.  Meet at the Creek for great wine\, great people and great music!
URL:https://saltcreekwine.com/event/live-music-with-aja-jean-2/
LOCATION:CA
CATEGORIES:Live Music
ATTACH;FMTTYPE=image/png:https://saltcreekwine.com/wp-content/uploads/2019/04/Wine-and-Music.png
END:VEVENT
BEGIN:VEVENT
DTSTART;TZID=UTC:20190809T183000
DTEND;TZID=UTC:20190809T213000
DTSTAMP:20260424T073109
CREATED:20190710T031925Z
LAST-MODIFIED:20190710T031925Z
UID:3617-1565375400-1565386200@saltcreekwine.com
SUMMARY:Passport to Wine
DESCRIPTION:Our wine club members are invited to our second Passport to Wine event. For a $25 entry there will be 36 wines available to taste at 6 stations\, manned by some of the best sommeliers and wine experts around. Wines-by-the-case will be available at a significant discount.  Non wine club members are invited to join in the fun as well for $35.
URL:https://saltcreekwine.com/event/passport-to-wine/
LOCATION:Salt Creek Wine Company\, 30100 Town Center Dr.\, B-2\, Laguna Niguel\, CA\, 92677\, United States
CATEGORIES:Winemaker Event
ATTACH;FMTTYPE=image/jpeg:https://saltcreekwine.com/wp-content/uploads/2019/02/Love-at-First-Flight.jpg
ORGANIZER;CN="Salt Creek Wine Company":MAILTO:cheers@saltcreekwine.com
END:VEVENT
BEGIN:VEVENT
DTSTART;TZID=UTC:20190804T120000
DTEND;TZID=UTC:20190804T180000
DTSTAMP:20260424T073109
CREATED:20190706T170049Z
LAST-MODIFIED:20190706T170049Z
UID:3536-1564920000-1564941600@saltcreekwine.com
SUMMARY:Sunday Sips
DESCRIPTION:Special available until we run out… Sundays come enjoy wine-by-the-glass of any open wine at 50% off! Applies only to bottles still open from Saturday\, so variety and amount is a surprise!
URL:https://saltcreekwine.com/event/sunday-sips-31/
LOCATION:Salt Creek Wine Company\, 30100 Town Center Dr.\, B-2\, Laguna Niguel\, CA\, 92677\, United States
ATTACH;FMTTYPE=image/jpeg:https://saltcreekwine.com/wp-content/uploads/2018/04/Wine-Bottles.jpg
END:VEVENT
BEGIN:VEVENT
DTSTART;TZID=UTC:20190803T183000
DTEND;TZID=UTC:20190803T213000
DTSTAMP:20260424T073109
CREATED:20190706T172456Z
LAST-MODIFIED:20190706T172456Z
UID:3561-1564857000-1564867800@saltcreekwine.com
SUMMARY:Live Music with Jimmy G and Friends
DESCRIPTION:Incredible Jazz artist Jimmy G returns to Salt Creek Wine Company with his many talented friends to entertain us.
URL:https://saltcreekwine.com/event/live-music-with-jimmy-g-and-friends/
LOCATION:Salt Creek Wine Company\, 30100 Town Center Dr.\, B-2\, Laguna Niguel\, CA\, 92677\, United States
CATEGORIES:Live Music
ATTACH;FMTTYPE=image/jpeg:https://saltcreekwine.com/wp-content/uploads/2018/10/Live-Music-Jimmy-G.jpg
END:VEVENT
BEGIN:VEVENT
DTSTART;TZID=UTC:20190728T120000
DTEND;TZID=UTC:20190728T180000
DTSTAMP:20260424T073109
CREATED:20190706T165901Z
LAST-MODIFIED:20190706T165901Z
UID:3534-1564315200-1564336800@saltcreekwine.com
SUMMARY:Sunday Sips
DESCRIPTION:Special available until we run out… Sundays come enjoy wine-by-the-glass of any open wine at 50% off! Applies only to bottles still open from Saturday\, so variety and amount is a surprise!
URL:https://saltcreekwine.com/event/sunday-sips-30/
LOCATION:Salt Creek Wine Company\, 30100 Town Center Dr.\, B-2\, Laguna Niguel\, CA\, 92677\, United States
ATTACH;FMTTYPE=image/jpeg:https://saltcreekwine.com/wp-content/uploads/2018/04/Wine-Bottles.jpg
END:VEVENT
BEGIN:VEVENT
DTSTART;TZID=UTC:20190727T183000
DTEND;TZID=UTC:20190727T213000
DTSTAMP:20260424T073109
CREATED:20190706T172044Z
LAST-MODIFIED:20190706T172044Z
UID:3559-1564252200-1564263000@saltcreekwine.com
SUMMARY:Live Music with Ashun
DESCRIPTION:If you love guitar\, you will want to come see Ashun at Salt Creek Wine Company. Ashun is a phenomenally talented guitar virtuoso. You will not want to miss his talented performance. Come to enjoy wine\, craft beer\, appetizers\, and relax to a wonderful entertainer.
URL:https://saltcreekwine.com/event/live-music-with-ashun-6/
LOCATION:Salt Creek Wine Company\, 30100 Town Center Dr.\, B-2\, Laguna Niguel\, CA\, 92677\, United States
CATEGORIES:Live Music
ATTACH;FMTTYPE=image/jpeg:https://saltcreekwine.com/wp-content/uploads/2018/10/Ashun-Guitar.jpg
END:VEVENT
BEGIN:VEVENT
DTSTART;TZID=UTC:20190725T183000
DTEND;TZID=UTC:20190725T203000
DTSTAMP:20260424T073109
CREATED:20190706T175519Z
LAST-MODIFIED:20190717T045853Z
UID:3567-1564079400-1564086600@saltcreekwine.com
SUMMARY:Wine Pairing Dinner
DESCRIPTION:Join us as we pair incredible wines from Napa Valley; including Whitehall Lane and Trinchero.  Dickey’s BBQ in Foothill Ranch will cater the food for a 5 course meal.  Marcelino Cosio will walk us through these fabulous wine selections while we feast on delicious BBQ. \nJust $40 \nRSVP today as the last several dinners have sold old quickly.
URL:https://saltcreekwine.com/event/wine-pairing-dinner/
LOCATION:Salt Creek Wine Company\, 30100 Town Center Dr.\, B-2\, Laguna Niguel\, CA\, 92677\, United States
CATEGORIES:Wine Pairing Meal
ATTACH;FMTTYPE=image/jpeg:https://saltcreekwine.com/wp-content/uploads/2019/07/tre-leoni-e1563339354547.jpg
END:VEVENT
BEGIN:VEVENT
DTSTART;TZID=America/Los_Angeles:20190721T120000
DTEND;TZID=America/Los_Angeles:20190721T180000
DTSTAMP:20260424T073109
CREATED:20190706T165529Z
LAST-MODIFIED:20190706T165626Z
UID:3530-1563710400-1563732000@saltcreekwine.com
SUMMARY:Sunday Sips
DESCRIPTION:Special available until we run out… Sundays come enjoy wine-by-the-glass of any open wine at 50% off! Applies only to bottles still open from Saturday\, so variety and amount is a surprise!
URL:https://saltcreekwine.com/event/sunday-sips-28/
LOCATION:Salt Creek Wine Company\, 30100 Town Center Dr.\, B-2\, Laguna Niguel\, CA\, 92677\, United States
ATTACH;FMTTYPE=image/jpeg:https://saltcreekwine.com/wp-content/uploads/2018/04/Wine-Bottles.jpg
END:VEVENT
BEGIN:VEVENT
DTSTART;TZID=UTC:20190720T183000
DTEND;TZID=UTC:20190720T213000
DTSTAMP:20260424T073109
CREATED:20190706T171831Z
LAST-MODIFIED:20190706T171831Z
UID:3557-1563647400-1563658200@saltcreekwine.com
SUMMARY:Live Music with Gregory Brock
DESCRIPTION:Kick back with singer/songwriter Greg Brock\, who has several songs that hit the top 20 on the Billboard charts. A native Californian and resident of Laguna Niguel\, listening to Greg on one of his many guitars is the perfect backdrop to sip some new wines!
URL:https://saltcreekwine.com/event/live-music-with-gregory-brock-12/
LOCATION:Salt Creek Wine Company\, 30100 Town Center Dr.\, B-2\, Laguna Niguel\, CA\, 92677\, United States
CATEGORIES:Live Music
ATTACH;FMTTYPE=image/jpeg:https://saltcreekwine.com/wp-content/uploads/2018/08/Gregory.jpg
END:VEVENT
BEGIN:VEVENT
DTSTART;TZID=America/Los_Angeles:20190719T183000
DTEND;TZID=America/Los_Angeles:20190719T203000
DTSTAMP:20260424T073109
CREATED:20190706T174131Z
LAST-MODIFIED:20190711T164426Z
UID:3563-1563561000-1563568200@saltcreekwine.com
SUMMARY:VIP Tasting
DESCRIPTION:Join us as we open exclusive\, iconic bottles from Napa Valley’s most prestigious wineries.  For just $125 this special 6 bottle tasting will include: \n\nOpus One\nStag’s Leap Cask 23\nJoseph Phelps Insignia\nCaymus Special Selection\n\nThis event is limited and we will be closed to the public.  Reservations are required and this will sell out\, so sign up today! \nCost: $125 per person
URL:https://saltcreekwine.com/event/vip-tasting-2/
LOCATION:Salt Creek Wine Company\, 30100 Town Center Dr.\, B-2\, Laguna Niguel\, CA\, 92677\, United States
CATEGORIES:Special Event
ATTACH;FMTTYPE=image/jpeg:https://saltcreekwine.com/wp-content/uploads/2019/07/vip-table.jpg
END:VEVENT
BEGIN:VEVENT
DTSTART;TZID=UTC:20190714T120000
DTEND;TZID=UTC:20190714T180000
DTSTAMP:20260424T073109
CREATED:20190706T165740Z
LAST-MODIFIED:20190706T165740Z
UID:3532-1563105600-1563127200@saltcreekwine.com
SUMMARY:Sunday Sips
DESCRIPTION:Special available until we run out… Sundays come enjoy wine-by-the-glass of any open wine at 50% off! Applies only to bottles still open from Saturday\, so variety and amount is a surprise!
URL:https://saltcreekwine.com/event/sunday-sips-29/
LOCATION:CA
ATTACH;FMTTYPE=image/jpeg:https://saltcreekwine.com/wp-content/uploads/2018/04/Wine-Bottles.jpg
ORGANIZER;CN="Salt Creek Wine Company":MAILTO:cheers@saltcreekwine.com
END:VEVENT
BEGIN:VEVENT
DTSTART;TZID=UTC:20190713T183000
DTEND;TZID=UTC:20190713T213000
DTSTAMP:20260424T073109
CREATED:20190706T171544Z
LAST-MODIFIED:20190706T171544Z
UID:3555-1563042600-1563053400@saltcreekwine.com
SUMMARY:Live Music with Aja Jean
DESCRIPTION:Join us as talented up and coming singer Aja Jean makes her Salt Creek debut!
URL:https://saltcreekwine.com/event/live-music-with-aja-jean/
LOCATION:Salt Creek Wine Company\, 30100 Town Center Dr.\, B-2\, Laguna Niguel\, CA\, 92677\, United States
CATEGORIES:Live Music
ATTACH;FMTTYPE=image/jpeg:https://saltcreekwine.com/wp-content/uploads/2019/04/Live-Music.jpg
END:VEVENT
BEGIN:VEVENT
DTSTART;TZID=UTC:20190710T080000
DTEND;TZID=UTC:20190710T170000
DTSTAMP:20260424T073109
CREATED:20190227T033639Z
LAST-MODIFIED:20190227T033639Z
UID:3197-1562745600-1562778000@saltcreekwine.com
SUMMARY:Vinology - Learn About South African Wine with Marcelino
DESCRIPTION:Join us each second Wednesday of the month for an informative flight to different regions.  You will enjoy a 5-tasting flight from each region\, with sommelier Marcelino Cosio walking you through the complexities and highlights. \nThis month we adventure to South Africa \nCost: $30 per person includes a 5-taste flight and cheese
URL:https://saltcreekwine.com/event/vinology-learn-about-south-african-wine-with-marcelino/
LOCATION:Salt Creek Wine Company\, 30100 Town Center Dr.\, B-2\, Laguna Niguel\, CA\, 92677\, United States
CATEGORIES:Special Event
ATTACH;FMTTYPE=image/jpeg:https://saltcreekwine.com/wp-content/uploads/2019/02/South-Africa-e1551238569384.jpg
END:VEVENT
BEGIN:VEVENT
DTSTART;TZID=UTC:20190707T120000
DTEND;TZID=UTC:20190707T180000
DTSTAMP:20260424T073109
CREATED:20190706T164716Z
LAST-MODIFIED:20190706T164716Z
UID:3528-1562500800-1562522400@saltcreekwine.com
SUMMARY:Sunday Sips
DESCRIPTION:Special available until we run out… Sundays come enjoy wine-by-the-glass of any open wine at 50% off! Applies only to bottles still open from Saturday\, so variety and amount is a surprise!
URL:https://saltcreekwine.com/event/sunday-sips-27/
LOCATION:Salt Creek Wine Company\, 30100 Town Center Dr.\, B-2\, Laguna Niguel\, CA\, 92677\, United States
ATTACH;FMTTYPE=image/jpeg:https://saltcreekwine.com/wp-content/uploads/2018/04/Wine-Bottles.jpg
END:VEVENT
BEGIN:VEVENT
DTSTART;TZID=UTC:20190630T120000
DTEND;TZID=UTC:20190630T180000
DTSTAMP:20260424T073109
CREATED:20190403T043033Z
LAST-MODIFIED:20190403T043033Z
UID:3337-1561896000-1561917600@saltcreekwine.com
SUMMARY:Sunday Sips
DESCRIPTION:Special available until we run out… Sundays come enjoy wine-by-the-glass of any open wine at 50% off!  Applies only to bottles still open from Saturday\, so variety and amount is a surprise!
URL:https://saltcreekwine.com/event/sunday-sips-25/
LOCATION:Salt Creek Wine Company\, 30100 Town Center Dr.\, B-2\, Laguna Niguel\, CA\, 92677\, United States
ATTACH;FMTTYPE=image/jpeg:https://saltcreekwine.com/wp-content/uploads/2018/04/Wine-Bottles.jpg
END:VEVENT
BEGIN:VEVENT
DTSTART;TZID=UTC:20190627T183000
DTEND;TZID=UTC:20190627T203000
DTSTAMP:20260424T073109
CREATED:20190425T050837Z
LAST-MODIFIED:20190425T050951Z
UID:3397-1561660200-1561667400@saltcreekwine.com
SUMMARY:Cakebread Clam Bake
DESCRIPTION:We welcome summer with some of the best things… wine from Cakebread Cellars and an old fashioned clam bake!
URL:https://saltcreekwine.com/event/cakebread-clam-bake/
LOCATION:Salt Creek Wine Company\, 30100 Town Center Dr.\, B-2\, Laguna Niguel\, CA\, 92677\, United States
CATEGORIES:Wine Pairing Meal
ATTACH;FMTTYPE=image/png:https://saltcreekwine.com/wp-content/uploads/2019/04/Cakebread-cellars-2.png
END:VEVENT
BEGIN:VEVENT
DTSTART;TZID=UTC:20190623T160000
DTEND;TZID=UTC:20190623T180000
DTSTAMP:20260424T073109
CREATED:20190403T050044Z
LAST-MODIFIED:20190403T050044Z
UID:3355-1561305600-1561312800@saltcreekwine.com
SUMMARY:Republican Women's Fundraiser
DESCRIPTION:
URL:https://saltcreekwine.com/event/republican-womens-fundraiser/
LOCATION:Salt Creek Wine Company\, 30100 Town Center Dr.\, B-2\, Laguna Niguel\, CA\, 92677\, United States
CATEGORIES:Fundraiser
ATTACH;FMTTYPE=image/jpeg:https://saltcreekwine.com/wp-content/uploads/2019/04/Fundraiser-1.jpg
END:VEVENT
BEGIN:VEVENT
DTSTART;TZID=UTC:20190616T120000
DTEND;TZID=UTC:20190616T180000
DTSTAMP:20260424T073109
CREATED:20190403T042924Z
LAST-MODIFIED:20190403T042924Z
UID:3335-1560686400-1560708000@saltcreekwine.com
SUMMARY:Sunday Sips
DESCRIPTION:Special available until we run out… Sundays come enjoy wine-by-the-glass of any open wine at 50% off!  Applies only to bottles still open from Saturday\, so variety and amount is a surprise!
URL:https://saltcreekwine.com/event/sunday-sips-24/
LOCATION:Salt Creek Wine Company\, 30100 Town Center Dr.\, B-2\, Laguna Niguel\, CA\, 92677\, United States
ATTACH;FMTTYPE=image/jpeg:https://saltcreekwine.com/wp-content/uploads/2018/04/Wine-Bottles.jpg
END:VEVENT
BEGIN:VEVENT
DTSTART;TZID=UTC:20190615T183000
DTEND;TZID=UTC:20190615T213000
DTSTAMP:20260424T073109
CREATED:20190403T045618Z
LAST-MODIFIED:20190403T045618Z
UID:3353-1560623400-1560634200@saltcreekwine.com
SUMMARY:Live Music with Gregory Brock
DESCRIPTION:Kick back with singer/songwriter Greg Brock\, who has several songs that hit the top 20 on the Billboard charts. A native Californian and resident of Laguna Niguel\, listening to Greg on one of his many guitars is the perfect backdrop to sip some new wines!
URL:https://saltcreekwine.com/event/live-music-with-gregory-brock-10/
LOCATION:Salt Creek Wine Company\, 30100 Town Center Dr.\, B-2\, Laguna Niguel\, CA\, 92677\, United States
CATEGORIES:Live Music
ATTACH;FMTTYPE=image/jpeg:https://saltcreekwine.com/wp-content/uploads/2018/08/Gregory.jpg
END:VEVENT
BEGIN:VEVENT
DTSTART;TZID=UTC:20190612T183000
DTEND;TZID=UTC:20190612T203000
DTSTAMP:20260424T073109
CREATED:20190227T033302Z
LAST-MODIFIED:20190227T033302Z
UID:3193-1560364200-1560371400@saltcreekwine.com
SUMMARY:Vinology - Learn About Spanish Wine with Marcelino
DESCRIPTION:Join us each second Wednesday of the month for an informative flight to different regions.  You will enjoy a 5-tasting flight from each region\, with sommelier Marcelino Cosio walking you through the complexities and highlights. \nThis month we adventure to Spain \nCost: $30 per person includes a 5-taste flight and cheese
URL:https://saltcreekwine.com/event/vinology-learn-about-spanish-wine-with-marcelino/
LOCATION:Salt Creek Wine Company\, 30100 Town Center Dr.\, B-2\, Laguna Niguel\, CA\, 92677\, United States
CATEGORIES:Special Event
ATTACH;FMTTYPE=image/jpeg:https://saltcreekwine.com/wp-content/uploads/2019/02/Spain.jpg
END:VEVENT
BEGIN:VEVENT
DTSTART;TZID=UTC:20190609T120000
DTEND;TZID=UTC:20190609T180000
DTSTAMP:20260424T073109
CREATED:20190403T043202Z
LAST-MODIFIED:20190403T043202Z
UID:3339-1560081600-1560103200@saltcreekwine.com
SUMMARY:Sunday Sips
DESCRIPTION:Special available until we run out… Sundays come enjoy wine-by-the-glass of any open wine at 50% off!  Applies only to bottles still open from Saturday\, so variety and amount is a surprise!
URL:https://saltcreekwine.com/event/sunday-sips-26/
LOCATION:Salt Creek Wine Company\, 30100 Town Center Dr.\, B-2\, Laguna Niguel\, CA\, 92677\, United States
ATTACH;FMTTYPE=image/jpeg:https://saltcreekwine.com/wp-content/uploads/2018/04/Wine-Bottles.jpg
END:VEVENT
BEGIN:VEVENT
DTSTART;TZID=UTC:20190608T183000
DTEND;TZID=UTC:20190608T213000
DTSTAMP:20260424T073109
CREATED:20190403T045418Z
LAST-MODIFIED:20190403T045418Z
UID:3351-1560018600-1560029400@saltcreekwine.com
SUMMARY:Live Music with Jimmy G
DESCRIPTION:Talented artist Jimmy G is coming back to Salt Creek Wine Company to entertain us with his jazz.
URL:https://saltcreekwine.com/event/live-music-with-jimmy-g-4/
LOCATION:Salt Creek Wine Company\, 30100 Town Center Dr.\, B-2\, Laguna Niguel\, CA\, 92677\, United States
CATEGORIES:Live Music
ATTACH;FMTTYPE=image/jpeg:https://saltcreekwine.com/wp-content/uploads/2018/10/Live-Music-Jimmy-G.jpg
END:VEVENT
BEGIN:VEVENT
DTSTART;TZID=UTC:20190605T173000
DTEND;TZID=UTC:20190605T193000
DTSTAMP:20260424T073109
CREATED:20190425T050557Z
LAST-MODIFIED:20190425T050557Z
UID:3395-1559755800-1559763000@saltcreekwine.com
SUMMARY:Laguna Niguel Connectors
DESCRIPTION:We welcome Laguna Niguel Connectors business networking group to Salt Creek Wine Company.  They meet the first Wednesday of each month.  The Laguna Niguel Connectors group mission is to help business professionals in the local community get connected and stay connected by providing a local and convenient venue.
URL:https://saltcreekwine.com/event/laguna-niguel-connectors-9/
LOCATION:Salt Creek Wine Company\, 30100 Town Center Dr.\, B-2\, Laguna Niguel\, CA\, 92677\, United States
ATTACH;FMTTYPE=image/jpeg:https://saltcreekwine.com/wp-content/uploads/2018/08/Laguna-Niguel-Connectors.jpg
END:VEVENT
BEGIN:VEVENT
DTSTART;TZID=UTC:20190602T120000
DTEND;TZID=UTC:20190602T180000
DTSTAMP:20260424T073109
CREATED:20190403T042820Z
LAST-MODIFIED:20190403T042820Z
UID:3333-1559476800-1559498400@saltcreekwine.com
SUMMARY:Sunday Sips
DESCRIPTION:Special available until we run out… Sundays come enjoy wine-by-the-glass of any open wine at 50% off!  Applies only to bottles still open from Saturday\, so variety and amount is a surprise!
URL:https://saltcreekwine.com/event/sunday-sips-23/
LOCATION:Salt Creek Wine Company\, 30100 Town Center Dr.\, B-2\, Laguna Niguel\, CA\, 92677\, United States
ATTACH;FMTTYPE=image/jpeg:https://saltcreekwine.com/wp-content/uploads/2018/04/Wine-Bottles.jpg
END:VEVENT
BEGIN:VEVENT
DTSTART;TZID=UTC:20190531T183000
DTEND;TZID=UTC:20190531T183000
DTSTAMP:20260424T073109
CREATED:20190425T050200Z
LAST-MODIFIED:20190508T022607Z
UID:3392-1559327400-1559327400@saltcreekwine.com
SUMMARY:Passport to Wine - Wine Club Members Event
DESCRIPTION:Our wine club members are invited to our Passport to Wine event.  For a $25 entry there will be 36 wines available to taste at 6 stations.  Wines-by-the-case will be available at a significant discount.
URL:https://saltcreekwine.com/event/passport-to-wine-wine-club-members-event/
LOCATION:Salt Creek Wine Company\, 30100 Town Center Dr.\, B-2\, Laguna Niguel\, CA\, 92677\, United States
CATEGORIES:Special Event
ATTACH;FMTTYPE=image/png:https://saltcreekwine.com/wp-content/uploads/2019/04/Passport-to-Wine.png
END:VEVENT
BEGIN:VEVENT
DTSTART;TZID=UTC:20190526T120000
DTEND;TZID=UTC:20190526T180000
DTSTAMP:20260424T073109
CREATED:20190403T042712Z
LAST-MODIFIED:20190403T042712Z
UID:3331-1558872000-1558893600@saltcreekwine.com
SUMMARY:Sunday Sips
DESCRIPTION:Special available until we run out… Sundays come enjoy wine-by-the-glass of any open wine at 50% off!  Applies only to bottles still open from Saturday\, so variety and amount is a surprise!
URL:https://saltcreekwine.com/event/sunday-sips-22/
LOCATION:Salt Creek Wine Company\, 30100 Town Center Dr.\, B-2\, Laguna Niguel\, CA\, 92677\, United States
ATTACH;FMTTYPE=image/jpeg:https://saltcreekwine.com/wp-content/uploads/2018/04/Wine-Bottles.jpg
END:VEVENT
END:VCALENDAR